BEGIN:VCALENDAR
VERSION:2.0
PRODID:-//Squarespace Inc/Squarespace 6//v6//EN
BEGIN:VEVENT
UID:5d92af85a9f00c1ec8ca3bbb@squarespace.com
DTSTAMP:20191005T012629Z
DTSTART:20191110T190000Z
DTEND:20191110T200000Z
SUMMARY:24/7 Poetry Slam
GEO:-36.938363;174.655146
LOCATION:Te Uru Waitākere Contemporary Gallery\, 420 Titirangi Road\, Auckl
 and\, Auckland\, 0604\, New Zealand
END:VEVENT
END:VCALENDAR
