BEGIN:VCALENDAR
VERSION:2.0
PRODID:-//Squarespace Inc/Squarespace 6//v6//EN
BEGIN:VEVENT
UID:5d92b1b281b391136bd6d386@squarespace.com
DTSTAMP:20191001T033805Z
DTSTART:20191102T130000Z
DTEND:20200131T220000Z
SUMMARY:Design and Innovation - by Green Bay School
GEO:-36.938363;174.655146
LOCATION:Te Uru Waitākere Contemporary Gallery\, 420 Titirangi Road\, Auckl
 and\, Auckland\, 0604\, New Zealand
END:VEVENT
END:VCALENDAR
