BEGIN:VCALENDAR
VERSION:2.0
PRODID:-//Squarespace Inc/Squarespace 6//v6//EN
BEGIN:VEVENT
UID:5d92ac44cc28a46098413e76@squarespace.com
DTSTAMP:20191001T014210Z
DTSTART:20191102T130000Z
DTEND:20191130T220000Z
SUMMARY:Open Studios Exhibition
GEO:-36.947005;174.606473
LOCATION:Arataki Visitor Centre\, 300 Scenic Drive\, Titirangi\, New Zealan
 d
END:VEVENT
END:VCALENDAR
