BEGIN:VCALENDAR
VERSION:2.0
PRODID:-//Squarespace Inc/Squarespace 6//v6//EN
BEGIN:VEVENT
UID:5d92ad5c937a3466c0c4f77c@squarespace.com
DTSTAMP:20191107T194200Z
DTSTART:20191109T150000Z
DTEND:20191109T210000Z
SUMMARY:OPEN STUDIOS WAITAKERE: PEACE/PROTEST PRINTING
GEO:-36.938363;174.655146
LOCATION:Te Uru Waitākere Contemporary Gallery\, 420 Titirangi Road\, Auckl
 and\, Auckland\, 0604\, New Zealand
END:VEVENT
END:VCALENDAR
