BEGIN:VCALENDAR
VERSION:2.0
PRODID:-//Squarespace Inc/Squarespace 6//v6//EN
BEGIN:VEVENT
UID:5d92b694fe92ea4c6626017e@squarespace.com
DTSTAMP:20191005T013302Z
DTSTART:20191109T150000Z
DTEND:20191109T210000Z
SUMMARY:Titirangi Potters Club
GEO:-36.939057;174.655745
LOCATION:500 South Titirangi Road\, Auckland\, Auckland\, 0604\, New Zealan
 d
END:VEVENT
END:VCALENDAR
