BEGIN:VCALENDAR
VERSION:2.0
PRODID:-//Squarespace Inc/Squarespace 6//v6//EN
BEGIN:VEVENT
UID:5d92bb42fe92ea4c66267099@squarespace.com
DTSTAMP:20191005T013028Z
DTSTART:20191109T150000Z
DTEND:20191110T210000Z
SUMMARY:Titirangi Rudolf Steinar School Fundraiser
GEO:-36.952058;174.641023
LOCATION:Titirangi Rudolf Steiner School\, 5 Helios Place\, Auckland\, Auck
 land\, 0604\, New Zealand
END:VEVENT
END:VCALENDAR
