BEGIN:VCALENDAR
VERSION:2.0
PRODID:-//Squarespace Inc/Squarespace 6//v6//EN
BEGIN:VEVENT
UID:5d92b2e7fb48423f80ee1744@squarespace.com
DTSTAMP:20191005T012815Z
DTSTART:20191109T140000Z
DTEND:20191110T220000Z
SUMMARY:Te Henga Studios
END:VEVENT
END:VCALENDAR
