BEGIN:VCALENDAR
VERSION:2.0
PRODID:-//Squarespace Inc/Squarespace 6//v6//EN
BEGIN:VEVENT
UID:5d92b23153425916d16db27d@squarespace.com
DTSTAMP:20191001T033815Z
DTSTART:20190907T130000Z
DTEND:20191201T220000Z
SUMMARY:Moana Currents - Dressing Aotearoa Now
GEO:-36.938363;174.655146
LOCATION:Te Uru Waitākere Contemporary Gallery\, 420 Titirangi Road\, Auckl
 and\, Auckland\, 0604\, New Zealand
END:VEVENT
END:VCALENDAR
